BEGIN:VCALENDAR
VERSION:2.0
X-WR-CALNAME:www.indybay.org
PRODID:-//indybay/ical// v1.0//EN
BEGIN:VEVENT
UID:Indybay-18504500
SEQUENCE:18534849
CREATED:20080605T084300Z
DESCRIPTION:Saturday June 14 will be a day of demonstrations in opposition to UC 
 Berkeley's systematic confinement, torture, and murder of 40,000 non-human 
 animals.\n\nIt's a bad time to be an animal exploiter paid in blood money 
 at the University of California. On Saturday June 14, we'll visit the 
 neighborhoods of the vivisectors and those complicit in animal torture at 
 UC Berkeley to seek justice for the 40,000 non-human animals exploited at 
 UC Berkeley. \n\nThe university is engaged in a campaign to deny access to 
 public records concerning animal experiments and brand any opposition to 
 their atrocities as "terrorist."  They are building a new facility at 
 University Avenue and Oxford Way, known as the Li Ka-Shing Center for 
 Biomedical and Health Sciences, that will expand the existing Northwest 
 Animal Facility by seventy percent.\n\nEmail 
 stopcalvivisection@hushmail.com for meetup info.\n 
 https://www.indybay.org/newsitems/2008/06/05/18504500.php
SUMMARY:UC Berkeley vivisection home demonstrations
LOCATION:The homes of those paid in blood money and responsible for the exploitation 
 of 40,000 non-human animals at UC Berkeley. \n\nEmail 
 stopcalvivisection@hushmail.com for meetup info. 
URL:https://www.indybay.org/newsitems/2008/06/05/18504500.php
DTSTART:20080614T180000Z
DTEND:20080614T180000Z
END:VEVENT
END:VCALENDAR
