BEGIN:VCALENDAR
VERSION:2.0
X-WR-CALNAME:www.indybay.org
PRODID:-//indybay/ical// v1.0//EN
BEGIN:VEVENT
UID:Indybay-18503138
SEQUENCE:18533228
CREATED:20080531T040600Z
DESCRIPTION:Click Here To Listen\nBeltaine's Fire plays a unique fusion of Scottish and 
 Irish Rebel Music and Hip Hop.  The Music combines the passion and deep 
 roots of resistance embodied by the rebel bards of the Celtic nations with 
 the directness and relevance of politically consicious Hip Hop in a truly 
 seamless fusion that is both deeply rooted in tradition and history and 
 completely original.  Teri talks to\nEmcee Lynx about their music and the 
 upcoming vote on June 12th for Ireland to choose independence or to join 
 the EU for a united Europe.\n\n 
 https://www.indybay.org/newsitems/2008/05/30/18503138.php
SUMMARY:Teri Perticone of No Lies Radio interviews emcee Lynx of Beltaine's Fire
LOCATION:Beltaine's Fire is a five-piece Celtic Hip Hop Fusion project based in the 
 San Francisco Bay Area.\nTune in Sat & Sun at 3P Pacific time for this 
 fascinating interview.\n
URL:https://www.indybay.org/newsitems/2008/05/30/18503138.php
DTSTART:20080531T190000Z
DTEND:20080531T190000Z
END:VEVENT
END:VCALENDAR
