BEGIN:VCALENDAR
VERSION:2.0
X-WR-CALNAME:www.indybay.org
PRODID:-//indybay/ical// v1.0//EN
BEGIN:VEVENT
UID:Indybay-18503040
SEQUENCE:18533078
CREATED:20080530T164700Z
DESCRIPTION:They do pay - not a lot - but they do - 10 dollars and hour\nMarin 
 Grassroots needs people at San Rafael office people to do phone banking to 
 Marin's often underrepresented communities (Poor, immigrants, blacks, 
 Latino, Hispanic, Asian)\n No on 98 calls and yes on 99 calls and remind 
 them to vote\nFriday 2 to 5pm and Mon.  - Mon 2- 7pm\nyou will haft to 
 follow there script\n\nMarin Grassroots need outside workers polls, to fill 
 questions to Marin's often underrepresented communities in Novato, 
 Canal(San Rafael- Just before hit 101 from the Richmond Bridge) and Marin 
 City,  just a little bit from the Golden Gate Bridge\n2-7pm - greatest need 
 after 4:30pm \n\nput up by \n 
 https://www.indybay.org/newsitems/2008/05/30/18503040.php
SUMMARY:Marin Grassroots No on 98/Yes on 99 and get out the vote to the underrepresented Calling
LOCATION:Grassroots Leadership Network of Marin 30 North San Pedro Rd. Suite 290. 
 San Rafael, CA 94903 P: (415) 451-4350 ::: F: (415) 451-4357 
 ...\nwww.maringrassroots.org/ - 18k - Cached - Similar pages - Note this
URL:https://www.indybay.org/newsitems/2008/05/30/18503040.php
DTSTART:20080530T210000Z
DTEND:20080531T000000Z
END:VEVENT
END:VCALENDAR
