BEGIN:VCALENDAR
VERSION:2.0
X-WR-CALNAME:www.indybay.org
PRODID:-//indybay/ical// v1.0//EN
BEGIN:VEVENT
UID:Indybay-18502980
SEQUENCE:18533004
CREATED:20080530T092000Z
DESCRIPTION:Swing shift workers have comitted to running informational picketing at the 
 main entrance to campus this Friday (tomorrow) and Monday from around 
 4PM-5:30PM. We will be handing out flyers and holding picket signs to help 
 pressure UC executives to settle a contract now.\n\nPlease help us take 
 back UC and stake a claim on the base of campus!\n 
 https://www.indybay.org/newsitems/2008/05/30/18502980.php
SUMMARY:Informational Picketing at UCSC
LOCATION:Base of UCSC campus\nBay and High
URL:https://www.indybay.org/newsitems/2008/05/30/18502980.php
DTSTART:20080530T230000Z
DTEND:20080531T003000Z
END:VEVENT
END:VCALENDAR
