BEGIN:VCALENDAR
VERSION:2.0
X-WR-CALNAME:www.indybay.org
PRODID:-//indybay/ical// v1.0//EN
BEGIN:VEVENT
UID:Indybay-18502788
SEQUENCE:18532895
CREATED:20080529T072500Z
DESCRIPTION:THIS IS THE THING\nby Kirk Read\n\nmusic by Jeffrey Alphonsus Mooney\nvideo 
 by Liz Singer\nprops and design by Doug Hansen and Kirk Read\n\nat the 
 Garage, 975 Howard @ 6th Street, San Francisco June 10-14, 2008\nTuesday 
 through Saturday, 8pm\n\nTickets: $12-15, 
 1-800-838-3006\nwww.brownpapertickets.com/event/32515\n\nMore info: 
 www.kirkread.com\n\nWriter/performer Kirk Read creates an evening of 
 stories about sex work,\nhallucinations and the apocalypse. Read learned to 
 perform in a touring\nVirginia evangelical youth group, with some in his 
 hometown expecting\nhim to become a preacher. Instead, Read became an 
 escort and an avowed\nfan of magic mushrooms. In short, Read is a different 
 sort of preacher.\nRead's stories weave in and out of Jeffrey Alphonsus 
 Mooney's\nsoundscape, creating an atmosphere of magical trance. Read's 
 humor and\nacute observation, together with Mooney's trippy, layered music 
 and Liz\nSinger's shimmering video installation, will take you to church. 
 Expect\nto hear stories about a 450 pound sex work client, people with 
 dietary\nrestrictions, the Brady Bunch and touring through rural Alabama 
 with\ngenius strippers.\n 
 https://www.indybay.org/newsitems/2008/05/29/18502788.php
SUMMARY:THIS IS THE THING / Kirk Read full-length show
LOCATION:The Garage\n975 Howard @ 6th Street\nSan Francisco
URL:https://www.indybay.org/newsitems/2008/05/29/18502788.php
DTSTART:20080611T030000Z
DTEND:20080611T050000Z
END:VEVENT
END:VCALENDAR
