BEGIN:VCALENDAR
VERSION:2.0
X-WR-CALNAME:www.indybay.org
PRODID:-//indybay/ical// v1.0//EN
BEGIN:VEVENT
UID:Indybay-18502703
SEQUENCE:18532668
CREATED:20080529T013600Z
DESCRIPTION:Today, the DEA raided Holistic Solutions in Richmond and Clearlake. They 
 \nmay have also raided Holistic Solutions in San Mateo. Several employees 
 \nwere arrested. By the time ASA confirmed the raids, they were over so we 
 \nwere not able to alert the community to come out to protest.\n\nAlso, 
 several media outlets are reporting that the DEA is raiding \nseveral 
 marijuana grow sites in the Bay Area. It is unclear if these \nraids are 
 connected to the dispensary raids or if they are medical sites.\n\nPlease 
 look for further details in our California weekly alert or visit \nthe ASA 
 discussion forums for updates: 
 \nwww.AmericansForSafeAccess.org/ASAForum\n\nWe will be discussing the 
 raids and other issues at the East Bay ASA \nmeeting tonight - hope to see 
 you there.\n\n\n      Wednesday, May 28, Oakland: East Bay ASA 
 Meeting\n\nPlease come and join the East Bay ASA crew as we discuss 
 important \nlocal, state, and national medical cannabis issues!  Jahan 
 Marcu, member \nof ASA's Medical Advisory Board will be our guest speaker 
 and will talk \nabout current medical cannabis research. We will also be 
 discussing \nproposed changes to the Alameda County dispensary 
 ordinance.\n\nPlease join us at this important meeting!\n\nWhen: Wednesday, 
 the 28th at 7:00pm (Please show up promptly, as the \ndoors will be locked 
 after 7:15pm.)\n\nWhere: ASA Headquarters Office\n            1322 Webster 
 Street, Suite 402, Downtown Oakland (2 blocks \nfrom 12th St. BART 
 station!)\n\nFor more information, contact 
 Rebecca@AmericansforSafeAccess.org\n\n\n-- \n\nRebecca Saltzman\nChief of 
 Staff\nAmericans for Safe Access\nAmericansForSafeAccess.org \n\nAmericans 
 for Safe Access (ASA) is the largest national member-based \norganization 
 of patients, medical professionals, scientists and \nconcerned citizens 
 promoting safe and legal access to cannabis for \ntherapeutic use and 
 research.\n\nJoin us today... AmericansforSafeAccess.org 
 \n\n\nHeadquarters\n1322 Webster St Suite 402\nOakland, CA 94612\nP: 
 510-251-1856 ext. 308 F: 510-251-2036\n\n\n\n 
 https://www.indybay.org/newsitems/2008/05/28/18502703.php
SUMMARY:East Bay ASA Meeting
LOCATION:\nWhere: ASA Headquarters Office\n            1322 Webster Street, Suite 
 402, Downtown Oakland (2 blocks \nfrom 12th St. BART station!)
URL:https://www.indybay.org/newsitems/2008/05/28/18502703.php
DTSTART:20080529T020000Z
DTEND:20080529T033000Z
END:VEVENT
END:VCALENDAR
