BEGIN:VCALENDAR
VERSION:2.0
X-WR-CALNAME:www.indybay.org
PRODID:-//indybay/ical// v1.0//EN
BEGIN:VEVENT
UID:Indybay-18502674
SEQUENCE:18532630
CREATED:20080528T230800Z
DESCRIPTION:UC Wide, Patient Care & Service Workers have been bargaining with the UC 
 for a fair contract since August 2007 and the UC refuses to bargain fairly. 
 Only one option is left for workers...STRIKE!!!\n\nThe Strike Will Be 
 Beginning on June 4th so THIS IS A GREAT CHANCE TO GET INFORMED AND GET 
 INVOLVED!\n\n---------------------------------------\n\nDOs & DON'Ts when 
 supporting UC Workers' Strike:\n\nDOs\n-DO go to the picket line during the 
 strike!\n-DO spread the word\n-DO make announcements in your classes\n-DO 
 compel your TAs and professors to cancel or move class\n-DO bring or cook 
 food to bring to the picket line\n\nDON'Ts\n-DON'T cross the picket 
 line!\n-DON'T go to class or section\n-DON'T go to your University 
 job\n-DON'T eat at Dining Halls, University Cafés, shop at University 
 stores, etc.\n https://www.indybay.org/newsitems/2008/05/28/18502674.php
SUMMARY:Fair Contract Now! Solidarity Teach-In!
LOCATION:Kresge Classroom 321\nUC Santa Cruz
URL:https://www.indybay.org/newsitems/2008/05/28/18502674.php
DTSTART:20080529T020000Z
DTEND:20080529T040000Z
END:VEVENT
END:VCALENDAR
