BEGIN:VCALENDAR
VERSION:2.0
X-WR-CALNAME:www.indybay.org
PRODID:-//indybay/ical// v1.0//EN
BEGIN:VEVENT
UID:Indybay-18502519
SEQUENCE:18532392
CREATED:20080528T030000Z
DESCRIPTION:Phonebanking to save rent control and the environment, No on 98/Yes on 99.  
 If you cannot walk precincts or stand on a corner with a big sign, you 
 probably can talk.  Every single pro-rent control voter we can reach must 
 be pushed to the polls if we are to have any chance of saving our homes and 
 defeating Prop. 98.  \n 
 https://www.indybay.org/newsitems/2008/05/27/18502519.php
SUMMARY:No on 98 Phonebanking
LOCATION:Housing Rights Committee, 427 South Van Ness. Call John at 703-8634 to let 
 him know your are coming
URL:https://www.indybay.org/newsitems/2008/05/27/18502519.php
DTSTART:20080530T010000Z
DTEND:20080530T040000Z
END:VEVENT
END:VCALENDAR
