BEGIN:VCALENDAR
VERSION:2.0
X-WR-CALNAME:www.indybay.org
PRODID:-//indybay/ical// v1.0//EN
BEGIN:VEVENT
UID:Indybay-18502502
SEQUENCE:18532374
CREATED:20080528T024000Z
DESCRIPTION:Environmental leaders from The Nature Conservancy, Natural Resources 
 Defense Council, Sierra Club California and Greenbelt Alliance hold a press 
 conference Wednesday, May 28, to alert voters to the environmental dangers 
 lurking in Proposition 98 on the June 3 ballot. Prop. 98 would undermine 
 environmental laws that help prevent global warming, maintain water and air 
 quality, protect species and preserve open space.  SF Tenants Union 
 says:\nThey could use bodies there  BUT if you go, please don;t bring rent 
 control signs, flyers or if questioned by media talk about rent control 
 impacts. The statewide campaign really wants to get an environmental 
 message out for the voters in Marin and similar areas within the SF TV 
 market so we don;t want to dilute the environmental message. \n\n\n 
 https://www.indybay.org/newsitems/2008/05/27/18502502.php
SUMMARY:No on 98 Environmental Press Conference
LOCATION:China Basin Park, 101 Terry A. Francois Street, San Francisco\nChina Basin 
 Park is located along the shores of McCovey Cove between the Lefty O’Doul 
 Bridge, Pier 48 and Terry Francois Boulevard.  The news conference will be 
 held near the recreational little league field.
URL:https://www.indybay.org/newsitems/2008/05/27/18502502.php
DTSTART:20080528T170000Z
DTEND:20080528T190000Z
END:VEVENT
END:VCALENDAR
