BEGIN:VCALENDAR
VERSION:2.0
X-WR-CALNAME:www.indybay.org
PRODID:-//indybay/ical// v1.0//EN
BEGIN:VEVENT
UID:Indybay-18502431
SEQUENCE:18532338
CREATED:20080527T212300Z
DESCRIPTION:Hear from public and solar community on ideas to expand the use of solar 
 within Santa Cruz. These ideas will be integrated into the Solar Section of 
 the Santa Cruz Climate Action Plan.\n\nTo meet the City's reduction goals 
 for greenhouse gas emissions by those living, working and visiting Santa 
 Cruz, opportunities and incentives must be developed to provide carbon 
 neutral alternatives.   Options for reducing carbon emissions from daily 
 living include conservation and energy efficiency, reduction through 
 sustainable lifestyle choices, and through the selection of renewable 
 energy sources. \n\n\n 
 https://www.indybay.org/newsitems/2008/05/27/18502431.php
SUMMARY:Santa Cruz Solar Climate Action Plan
LOCATION:Louden Nelson Center, Rm. 3
URL:https://www.indybay.org/newsitems/2008/05/27/18502431.php
DTSTART:20080529T013000Z
DTEND:20080529T040000Z
END:VEVENT
END:VCALENDAR
