BEGIN:VCALENDAR
VERSION:2.0
X-WR-CALNAME:www.indybay.org
PRODID:-//indybay/ical// v1.0//EN
BEGIN:VEVENT
UID:Indybay-18502328
SEQUENCE:18532171
CREATED:20080527T145700Z
DESCRIPTION:In San Francisco: Flyer every BART and Muni Metro station and popular bus 
 stops, during morning (7-9 a.m.) and evening (5-7 p.m.) commute. You can 
 pick up flyers at the SF Tenants Union, 558 Capp Street, 1 block east of 
 Mission, between 21st and 22nd Streets, between 2-5 PM on weekdays, Noon to 
 2 PM on weekends. We must push every pro-rent control voter to the polls in 
 San Francisco and Los Angeles to offset the expected low voter turnout and 
 conservative voter elsewhere in California. This action will take place 
 every weekday through June 3.\n 
 https://www.indybay.org/newsitems/2008/05/27/18502328.php
SUMMARY:No on 98 Flyering at BART & Muni Stations; Bus Stops
LOCATION:San Francisco, every BART and Muni Metro station and popular bus stops, 
 flyer during morning and evening commute. 
URL:https://www.indybay.org/newsitems/2008/05/27/18502328.php
DTSTART:20080529T140000Z
DTEND:20080529T160000Z
END:VEVENT
END:VCALENDAR
