BEGIN:VCALENDAR
VERSION:2.0
X-WR-CALNAME:www.indybay.org
PRODID:-//indybay/ical// v1.0//EN
BEGIN:VEVENT
UID:Indybay-18501016
SEQUENCE:18547297
CREATED:20080523T230800Z
DESCRIPTION:Join San Francisco Maritime National Historical Park's Living History 
 players in reenactment of the 1901 waterfront strike. From July 13 to 
 October 2, 1901, San Francisco's waterfont was shut down by sailors, 
 longshoremen, and teamsters striking for better pay and working conditions. 
 Experience the sights and sounds of SF history through a reenactment. Hear 
 impassioned speeches and voice your own opinion! Take part in a march as 
 strikers implore ships crews to join their ranks. Watch as soldiers arrive 
 to maintain order and see a ship's captain defy the strikers. Free 
 admission to Hyde Street Pier (reenactment is on pier). Fee for boarding 
 historic ships: Adults, $5, ages 15 and under, free. Free with national 
 park passes. Program repeats at 3:00pm.\n 
 https://www.indybay.org/newsitems/2008/05/23/18501016.php
SUMMARY:San Francisco 1901 Waterfront Strike Reenactment
LOCATION:Hyde Street Pier, San Francisco
URL:https://www.indybay.org/newsitems/2008/05/23/18501016.php
DTSTART:20080712T190000Z
DTEND:20080712T200000Z
END:VEVENT
END:VCALENDAR
