BEGIN:VCALENDAR
VERSION:2.0
X-WR-CALNAME:www.indybay.org
PRODID:-//indybay/ical// v1.0//EN
BEGIN:VEVENT
UID:Indybay-18501012
SEQUENCE:18530696
CREATED:20080523T222100Z
DESCRIPTION:SeedSource.org Launches Eco-Entertainment Networking Event\n\nOn June 1, 
 2008, SeedSource.org presents the first in a series of networking events 
 for Arts & Entertainment industry professionals: SeedSource 1.0. The event 
 will be hosted by Temple SF, taking place from 6:30PM - 2:00AM in San 
 Francisco. Details are available at www.SeedSource.org.\n\nThe focus for 
 SeedSource 1.0 is on Eco-Entertainment, with interactive presentations 
 highlighting the latest innovations, tools and technology used for 
 'greening' our industry. \n\nThe Eco-Entertainment Conference will feature 
 two interactive discussion panels: \n\nSOURCES AND SOLUTIONS\nDiscover the 
 practical and profitable eco-solutions that are transforming the 
 entertainment industry, from compostable cutlery to tree-free tickets and 
 city-sponsored recycling workshops. \n\nFeaturing special guests:\n\nRobin 
 Schidlowski [SF Dept. of the Environment]\nJocelyn Kane [SF Entertainment 
 Commission]\nStephen Weisz [CEO - InTicketing]\nDonnie Oliveira [SF 
 Conservation Corps - Special Events]\nMike Zuckermann [Sustainability 
 Director - Temple SF]\n\nART AS EDUCATION\nMeet the innovators who are 
 redefining the boundaries between aesthetic and ethical ideals, from 
 temples made of 'trash' to eco-luxury design. \n\nFeaturing presentations 
 from:\n\nShrine [Our Future Now / Burning Man Temple]\nCarey Thompson [Our 
 Future Now / Galactivation]\nJonathan Youtt [Sustainable Living Roadshow / 
 CELLspace]\nKevin George [Articulate SF]\nJen Zariat [EcoGatherings / 
 Symbiosis / Cacao Media]\n\nSeedSource 1.0 will also premiere the new 
 SeedSource.org online directory for creative industry professionals (more 
 info at www.SeedSource.org). Also featured at  the event will be an 
 Eco-Friendly Products and Services Faire, with local merchants offering 
 information and free samples.\n\nSeedSource.org is an online and offline 
 connection point for arts and entertainment industry professionals. The 
 SeedSource.org web directory allows users to share profile information and 
 make connections. SeedSource events build opportunities to network, get 
 informed about industry advances, and enjoy a specially selected lineup of 
 music and performance arts.\n\nAn Afterhours Reception to the Conference 
 will feature two rooms of costumes, creations, performance art and live and 
 electronic music presenting talents of our rich roster of local 
 artists.\n\n\nFeatured performances include:\n\n\nBeats Antique [live music 
 + bellydance]\nShawna [El Circo]\nMajitope [Lowpro Lounge / 
 Symbiosis]\nMozaic [Raindance / Nexus]\nPedro [CoSM / Symbiosis]\nThe 
 Flying Skulls : J Tonal, Snareface [Lowpro Lounge - live electronic 
 music]\nIDX [Black Market Techno]\nKnowSleep [album release - live 
 electronic music] \nfeaturing Maidenspace [the lyrical seemstress]\nThe 
 Flying Skulls : J Tonal, Snareface [Lowpro Lounge - live electronic 
 music]\n\nVJ Videolicious [visual arts]\nSerpentfeathers [live performance] 
 \n\n\nOnline Registration for SeedSource 1.0 
 (www.seedsource.org/tickets).\nInTicketing (www.InTicketing.com) sponsors 
 the planting of one tree for every ticket purchased online.\n\n\nSeedSource 
 Conference: 06:00PM to 09:30PM\n$45 Advanced\n$60 At the Door\n\nSeedSource 
 AfterHours: 09:30PM to 02:00AM\n$10\n\nMedia Passes available upon 
 request.\n\nLocation:\nTemple SF\n540 Howard Street\nSan Francisco, 
 CA\n94105\n\nContact: 800.790.1772\nhello@seedsource.org  .  
 www.SeedSource.org\n 
 https://www.indybay.org/newsitems/2008/05/23/18501012.php
SUMMARY:SeedSource 1.0 - Eco-Entertainment Networking Event
LOCATION:Temple SF\n540 Howard St.\nSan Francisco, CA\n94105
URL:https://www.indybay.org/newsitems/2008/05/23/18501012.php
DTSTART:20080602T013000Z
DTEND:20080602T093000Z
END:VEVENT
END:VCALENDAR
