BEGIN:VCALENDAR
VERSION:2.0
X-WR-CALNAME:www.indybay.org
PRODID:-//indybay/ical// v1.0//EN
BEGIN:VEVENT
UID:Indybay-18500829
SEQUENCE:18530494
CREATED:20080522T214100Z
DESCRIPTION:Pen-Pals on the outside will share segments of their collaborations across 
 prison walls including theater, dramatic readings, dance, original music 
 compositions and film. Artists presenting work include: Jen Baker, Merrill 
 Gruver, Judith Jordan, Carey Hope Lamprecht, Jeff Kingman and Eireen 
 Nealand. Other participants of the project will be acknowledged and 
 participate in informal discussions of their experiences. The reception is 
 also a celebration of the culminating zine from the 2006-7 round of the 
 project.  The cost of the event is $5-15.  \n 
 https://www.indybay.org/newsitems/2008/05/22/18500829.php
SUMMARY:One Year Later... Collaborations from the Mutual Aid Pen-Pal Project 2007-8
LOCATION:Intersection for the Arts \n446 Valencia Street\nSan Francisco, CA 94103\n
URL:https://www.indybay.org/newsitems/2008/05/22/18500829.php
DTSTART:20080529T010000Z
DTEND:20080529T030000Z
END:VEVENT
END:VCALENDAR
