BEGIN:VCALENDAR
VERSION:2.0
X-WR-CALNAME:www.indybay.org
PRODID:-//indybay/ical// v1.0//EN
BEGIN:VEVENT
UID:Indybay-18500358
SEQUENCE:18529921
CREATED:20080520T045300Z
DESCRIPTION:Join us for an evening cocktail party with hordeurves, video screenings, 
 readings, art, and much much more! We are raising money for The Colima 
 Project, an artistic collaboration between students at SFSU and the 
 community of Colima, El Salvador.\n 
 https://www.indybay.org/newsitems/2008/05/19/18500358.php
SUMMARY:The Colima Project Fundraiser
LOCATION:MOCHA: Museum of Children's Art, downtown Oakland
URL:https://www.indybay.org/newsitems/2008/05/19/18500358.php
DTSTART:20080614T010000Z
DTEND:20080614T040000Z
END:VEVENT
END:VCALENDAR
