BEGIN:VCALENDAR
VERSION:2.0
X-WR-CALNAME:www.indybay.org
PRODID:-//indybay/ical// v1.0//EN
BEGIN:VEVENT
UID:Indybay-18499358
SEQUENCE:18528760
CREATED:20080515T082100Z
DESCRIPTION:The 29th Annual Multicultural Festival presents food, music, dance, poetry 
 and other live performances that embrace the beauty of difference!!\n\nMCF 
 is an annual celebration of the multiple cultures and identities that are 
 present on the university campus. The event provides a space for 
 collaboration among underrepresented student organizations that might not 
 otherwise have the opportunity to find support amongst one another. It is 
 meant to create a safe space for student organizations to represent and 
 strengthen the pride they share in their diverse cultural backgrounds. Its 
 hope is to increase cultural understanding within the campus and to develop 
 a sense of belonging to our community.\n\nThis event is open to the public- 
 all are welcome. Free admission.\n\nThe 2008 MCF Planning Committee, in 
 collaboration with SOAR, consists of the following student 
 organizations:\n\nABSA\nCAU\nCHE\nCSA\nFSA\nGamma Phi Beta\nHSA\nISO\nLos 
 Mejicas\nMECHA\nMESH\nPhi Iota Alpha\nSANAI\nSigma Pi Alpha\n\nThe MCF 
 Planning Committee wishes to make this event accessible to people with 
 disabilities. For accommodations please contact SOAR at (831) 459-2943.\n 
 https://www.indybay.org/newsitems/2008/05/15/18499358.php
SUMMARY:29th Annual Multicultural Festival at UCSC
LOCATION:Oakes Lower Lawn, \nOakes College, UCSC
URL:https://www.indybay.org/newsitems/2008/05/15/18499358.php
DTSTART:20080517T190000Z
DTEND:20080518T010000Z
END:VEVENT
END:VCALENDAR
