BEGIN:VCALENDAR
VERSION:2.0
X-WR-CALNAME:www.indybay.org
PRODID:-//indybay/ical// v1.0//EN
BEGIN:VEVENT
UID:Indybay-18498435
SEQUENCE:18527544
CREATED:20080511T062000Z
DESCRIPTION:"Overcoming Racism and Building a Racially Just County" a Listening and 
 Documentation Session.\n\nSee also 
 http://www.indybay.org/newsitems/2008/05/05/18497190.php\n\n\n 
 https://www.indybay.org/newsitems/2008/05/10/18498435.php
SUMMARY:Coalition on Race, Poverty, Equality, & Justice Public Meeting
LOCATION:Felton Presbyterian Church\n6090 Hiway 9 Felton CA
URL:https://www.indybay.org/newsitems/2008/05/10/18498435.php
DTSTART:20080515T013000Z
DTEND:20080515T033000Z
END:VEVENT
END:VCALENDAR
