BEGIN:VCALENDAR
VERSION:2.0
X-WR-CALNAME:www.indybay.org
PRODID:-//indybay/ical// v1.0//EN
BEGIN:VEVENT
UID:Indybay-18498169
SEQUENCE:18527215
CREATED:20080509T174100Z
DESCRIPTION:\nBonnie Raitt shows support for Bill Monning: \nWill Greet fans at 
 Exclusive Backstage Opportunity at the Santa Cruz Blues 
 Festival\n\nGrammy-award winning musician and songwriter, Bonnie Raitt will 
 meet fans at an exclusive backstage Meet and Greet to benefit Bill 
 Monning’s campaign for the 27th  District Assembly seat. Raitt will meet 
 with ten lucky pass holders backstage after her appearance at the Santa 
 Cruz Blues Festival on May 24th in Aptos Village Park. Raitt, an avid 
 activist and long-time supporter of Bill Monning, has made fundraising for 
 progressive candidates and causes a priority during her 2008 tour.\n\n 
 tickets online at www.billmonning.org.\nThe campaign is also selling 10 
 preferred seating Gold Circle tickets without Meet and Greet passes. The 
 Gold Circle comprises excellent seats in front of the stage with waitress 
 service.\n\nFor a ticket and a pass to the Meet and Greet, the price is 
 $250\nFor a preferred seating ticket only, the price is $150. \nAll 
 proceeds go to support Bill Monning for Assembly. \n\n\nFor Immediate 
 Release: May 9, 2008\nContact: Rachel Goodman\n(831)421-0339  \n\n\n\n\n 
 https://www.indybay.org/newsitems/2008/05/09/18498169.php
SUMMARY:Bonnie Raitt/ Bill Monning Benefit
LOCATION:Aptos Village Park, Aptos, CA
URL:https://www.indybay.org/newsitems/2008/05/09/18498169.php
DTSTART:20080524T180000Z
DTEND:20080524T230000Z
END:VEVENT
END:VCALENDAR
