BEGIN:VCALENDAR
VERSION:2.0
X-WR-CALNAME:www.indybay.org
PRODID:-//indybay/ical// v1.0//EN
BEGIN:VEVENT
UID:Indybay-18498060
SEQUENCE:18527052
CREATED:20080509T031500Z
DESCRIPTION:Sunday, May 11, 2008\n\nSunday, May 11th is the area's first organized Bike 
 to Worship event. Friends and neighbors are encouraged to bike, walk, or 
 ride a bus to church, instead of driving. Have fun while lowering 
 greenhouse gas emissions produced from driving to worship 
 services.\n\nParticipation has been arranged with the following 
 congregations:\n\n    * Center for Conscious Living\n    * Chadeish 
 Yameinu\n    * Congregational Church of Soquel\n    * First Congregational 
 Church (High Street)\n    * Inner Light Ministries\n    * Quaker Meeting 
 House\n    * Saint Philips' Episcopal Church (Scotts Valley)\n    * Santa 
 Cruz Community Church\n\nParticipants can register for a raffle and other 
 prizes. (Churches may offer additional incentives of their own.)\n\nFor 
 information, contact People Power's Batya Kagan, Coordinator for 
 Faith-Based Environmental Action: (831) 419-6574, 
 lsgp-faith@peoplepowersc.org\n\nhttp://www.peoplepowersc.org\n\nhttp://www.bike2work.com\n 
 https://www.indybay.org/newsitems/2008/05/08/18498060.php
SUMMARY:Bike to Worship
LOCATION:Participation has been arranged with the following congregations:
URL:https://www.indybay.org/newsitems/2008/05/08/18498060.php
DTSTART:20080511T173000Z
DTEND:20080511T180000Z
END:VEVENT
END:VCALENDAR
