BEGIN:VCALENDAR
VERSION:2.0
X-WR-CALNAME:www.indybay.org
PRODID:-//indybay/ical// v1.0//EN
BEGIN:VEVENT
UID:Indybay-18497591
SEQUENCE:18526477
CREATED:20080507T073900Z
DESCRIPTION:FOR IMMEDIATE RELEASE\n \nQUEER-STRAIGHT ALLIANCE OF CSUEB HOSTS ANNUAL 
 'MOCK MARRIAGE'\n\nAll for Marriage Equality Month\n \nWhat: Marriage 
 Equality Mock-Wedding and LGBT Resource Fair\nWhere: 25800 Carlos Bee Blvd. 
  Hayward, CA, Agora Stage outside University Union\nWhen: Thursday May 8th, 
 12 noon-2pm\nWhy: To help support the concept of 'equal opportunity 
 marriage for all.' At least 3 couples that shall be 'wed' on this day in a 
 variation of ceremony types, a Jewish ceremony, a Pagan hand fasting and a 
 traditional Christian ceremony as well as including participants of varying 
 ethnicities to show how marriage equality is supported not only by the 
 majority but by many minorities as well. This event is also being held as a 
 celebration of Multicultural Week.\n\nThis is about equality for all and 
 about the political movement that is currently going through the state 
 Supreme Court right now. This is in part a demonstration of what basic 
 civil rights everyone should be allowed. In this we will demonstrate the 
 ceremonies, give away free food, dance and supply a LGBT Resource Fair for 
 students on campus. This event is from 12pm-2pm on May 8th in on the Agora 
 Stage and Lawn.\nThe QSA is a political and social organization that has 
 been running on campus for three steady years and has hosted events as 
 QueerFest, drag shows, workshops and open mics. To see more of this 
 organization's events please go to the following site: 
 http://www.myspace.com/queer_straight_alliance\nFor further information 
 please contact the Queer Straight Alliance by emailing us at:  
 qsa@csueastbay.edu\n\n###\n 
 https://www.indybay.org/newsitems/2008/05/07/18497591.php
SUMMARY:Queer/Straight Alliance Mock-Wedding
LOCATION:CSU East Bay, 25800 Carlos Bee Blvd.  Hayward, CA, Agora Stage outside 
 University Union
URL:https://www.indybay.org/newsitems/2008/05/07/18497591.php
DTSTART:20080508T190000Z
DTEND:20080508T210000Z
END:VEVENT
END:VCALENDAR
