BEGIN:VCALENDAR
VERSION:2.0
X-WR-CALNAME:www.indybay.org
PRODID:-//indybay/ical// v1.0//EN
BEGIN:VEVENT
UID:Indybay-18496963
SEQUENCE:18525684
CREATED:20080505T031100Z
DESCRIPTION:Come to a demonstration at UC Berkeley School of Law graduation to demand 
 that Professor John Yoo, author of the legal memo justifying the Bush 
 administration's use of torture, be fired, disbarred and prosecuted for war 
 crimes. \n\nWhere:  Hearst Greek Theatre, Berkeley California (east side of 
 campus, on\nGaley Rd)\nWhen:   Saturday May 17, 2008\n            8am \n    
         10:30 a.m. Boalt Hall, Bancroft & College\n\nPLEASE RSVP by writing 
 to ActAgainstTorture@riseup.net !!  We're looking\nfor a major presence at 
 this event now that John Yoo's full complicity in\nattempting to grant the 
 torture-administration immunity has been revealed.\n\nThe graduation 
 ceremony starts at nine, but our protest will happen BEFORE\nthe ceremony, 
 beginning at 8 am when the gates at the Greek Theatre open\nto guests (only 
 folks with tickets will be allowed inside, but we'll have\nplenty of 
 opportunity to make our point as students, faculty, and families\narrive 
 through the two entrances to the Greek Theatre).  During the\nceremony 
 we'll take a coffee break, and will return to line the route\nbetween the 
 Greek Theatre and the Boalt Law School where a reception will\nbe held at 
 10:30 AM.\n\nWe plan to have the usual orange jump suits & our cage, lots 
 of orange\nribbons that we'll ask people to wear inside the graduation, and 
 excellent\nsigns for the many of you we expect will come out for this 
 action.\n\nPlease come out on May 17th!\n\nYours,\n\nAct Against 
 Torture\nhttp://www.ActAgainstTorture.org\n\n\n\n\n\n 
 https://www.indybay.org/newsitems/2008/05/04/18496963.php
SUMMARY:John Yoo protest at Boalt Hall Graduation
LOCATION:Hearst Greek Theatre, Berkeley California (east side of campus, on Galey 
 Rd)\n
URL:https://www.indybay.org/newsitems/2008/05/04/18496963.php
DTSTART:20080517T150000Z
DTEND:20080517T190000Z
END:VEVENT
END:VCALENDAR
