BEGIN:VCALENDAR
VERSION:2.0
X-WR-CALNAME:www.indybay.org
PRODID:-//indybay/ical// v1.0//EN
BEGIN:VEVENT
UID:Indybay-18496919
SEQUENCE:18525657
CREATED:20080504T235800Z
DESCRIPTION:May 9-17 join the Santa Cruz Film Festival in welcoming independent 
 filmmakers, musicians, and artists to Santa Cruz for a 9-day celebration of 
 film and culture.\n\nDON'T MISS:\n--One Fast Move or I'm Gone: Jack 
 Kerouac's Big Sur\n--Les Paul--Chasing Sound\n--Programming the 
 Nation?\n--Ripple Effect\n--Fields of Fuel Sundance Audience Award Winner\n 
   …and the other 140 films that consider The BIG Picture.\n\nRead about 
 the films, find ticket information and create your own unique film schedule 
 at http://www.santacruzfilmfestival.com\n\n\n 
 https://www.indybay.org/newsitems/2008/05/04/18496919.php
SUMMARY:Santa Cruz Film Festival VII: The BIG Picture
LOCATION:Del Mar Theatre, Riverfront Twin, Cayuga Vault, Rio Theatre
URL:https://www.indybay.org/newsitems/2008/05/04/18496919.php
DTSTART:20080509T190000Z
DTEND:20080510T050000Z
END:VEVENT
END:VCALENDAR
