BEGIN:VCALENDAR
VERSION:2.0
X-WR-CALNAME:www.indybay.org
PRODID:-//indybay/ical// v1.0//EN
BEGIN:VEVENT
UID:Indybay-18495707
SEQUENCE:18524113
CREATED:20080429T231700Z
DESCRIPTION:Militainment, Inc. is a nine-part documentary film that offers a glimpse 
 into the militarization of American popular culture.  The film examines how 
 U.S. news coverage has come to resemble Hollywood film, video games, and 
 "reality television" in its glamorization of war. Mobilizing a range of 
 media examples - from news anchors' idolatry of military machinery to the 
 impact of government propaganda on war reporting - the film asks: How has 
 war taken its place in the culture as an entertainment spectacle? And how 
 does presenting war as entertainment affect the ability of citizens to 
 evaluate the necessity and real human costs of military action? RT approx. 
 2-hrs.\n\nFilm is free, and open to all.\n\n 
 https://www.indybay.org/newsitems/2008/04/29/18495707.php
SUMMARY:4th Tues. Films: Militainment, Inc.
LOCATION:909 12th Street, Sacramento
URL:https://www.indybay.org/newsitems/2008/04/29/18495707.php
DTSTART:20080528T020000Z
DTEND:20080528T043000Z
END:VEVENT
END:VCALENDAR
