BEGIN:VCALENDAR
VERSION:2.0
X-WR-CALNAME:www.indybay.org
PRODID:-//indybay/ical// v1.0//EN
BEGIN:VEVENT
UID:Indybay-18495607
SEQUENCE:18523993
CREATED:20080429T041000Z
DESCRIPTION:May 23  \n7:00 PM (admission: $5.00)\nPhone Sex\n\nLocation: 600 4th St, 
 West Sacramento.  That's the corner of 4th & F in West Sacramento, just 
 over the river from downtown.\n\nFilmmaker Steve Balderson has just one 
 question - But those three small words, 60 seconds of tape, and a cast of 
 porn stars, punk rockers and pop culture psychos spouting some of the most 
 prophetic and profane possibilities imaginable converge to address an 
 immortal paradox - What is sexy?\n\nFeaturing (the voices of): Ron Jeremy, 
 Jane Wiedlin (the Go-Go's), Margaret Cho, Penn Jillette, Josie Cotton, Edie 
 McClurg, Lloyd Kaufman, Chi Chi La Rue, Courtney Chase, punk legends  Jayne 
 County and Ginger Coyote, Bruce Daniels, Jackie Beat and many, many 
 others!\n\nMake no mistake - this is film as art: a collage of image and 
 sound.\n\n"I dare you; I fucking dare you to watch this and not totally be 
 swept up by it in like 5 minutes. It's hypnotic!" - Film Threat\n\n"a tour 
 de force of freakiness" - LA Weekly\n\n"Funny... Jaw-dropping... Always 
 interesting. It may be the purest expression yet of just how diverse human 
 sexuality can be." - Kansas City Star\n\n 
 https://www.indybay.org/newsitems/2008/04/28/18495607.php
SUMMARY:Film Screening - Phone Sex
LOCATION:600 4th St, West Sacramento, CA
URL:https://www.indybay.org/newsitems/2008/04/28/18495607.php
DTSTART:20080524T020000Z
DTEND:20080524T040000Z
END:VEVENT
END:VCALENDAR
