BEGIN:VCALENDAR
VERSION:2.0
X-WR-CALNAME:www.indybay.org
PRODID:-//indybay/ical// v1.0//EN
BEGIN:VEVENT
UID:Indybay-18495510
SEQUENCE:18523884
CREATED:20080428T220800Z
DESCRIPTION:Anarchist Hiker is a social hiking group for people that are influenced by 
 Anarchist Political theory. We hike local trails and do skill shares while 
 on hikes, from self-defense against predators on the trails, to learning 
 spanich to edible local vegetation.  Come take a time out with us and 
 rewild a bit. \n\nNext Hike:\nGlen Canyon Park in San Francisco 
 (http://en.wikipedia.org/wiki/Glen_Canyon_Park) \n\nMeet at Glen Park Bart 
 Station at noon, Sunday May 11th.  Email ahiker@autonomi.net for more 
 information. \n\nbring food to share, a smile and have fun. \n 
 https://www.indybay.org/newsitems/2008/04/28/18495510.php
SUMMARY:Anarchist Hiker: Glen Canyon Hike (SF)
LOCATION:Meet at Glen Park Bart Station at Noon, Sunday May 11th.
URL:https://www.indybay.org/newsitems/2008/04/28/18495510.php
DTSTART:20080511T190000Z
DTEND:20080511T220000Z
END:VEVENT
END:VCALENDAR
