BEGIN:VCALENDAR
VERSION:2.0
X-WR-CALNAME:www.indybay.org
PRODID:-//indybay/ical// v1.0//EN
BEGIN:VEVENT
UID:Indybay-18495406
SEQUENCE:18523749
CREATED:20080428T040400Z
DESCRIPTION:EMERGENCY CALL TO ACTION: Monday, April 28th, 9:00am and 5:00pm at Pelosi's 
 house! BE THERE!\n\nThe Democrats are once again daring to consider handing 
 $108 billion of our tax money to Bush for the continued killing, torture, 
 rape, destruction of Iraq!\n\nPLUS they are deciding to give an additional 
 $70 billion he didn't ask for, so that the occupation of Iraq will be paid 
 for thru their elections!!!\n\nWe MUST STOP this WAR FUNDING! We are 
 raising the call for Camp Pelosi! Call in PINK this week beginning Monday, 
 come to Camp Pelosi, and work to END WAR NOW!\n\nPelosi has the choice to 
 send this bill to the floor or not! She has already recently refused to 
 send two horrific bills to the floor.\n\nCome to her house, 2640 Broadway, 
 Pacific Heights, Monday morning 9:00am - stay as long as you are able! Come 
 back at 5:00pm. Be prepared to be there EVERY DAY until she refuses to put 
 this bill on the table! She has refused TWICE recently to put horrific 
 bills out.\n\nCall her every day - many times. Tell her we will NOT 
 tolerate another WAR FUNDING VOTE! \n 
 https://www.indybay.org/newsitems/2008/04/27/18495406.php
SUMMARY:Camp Pelosi revival - $178 Billion at stake! Join CodePINK TODAY!
LOCATION:Pelosi's Home\n2640 Broadway, Pacific Heights\nSan Francisco
URL:https://www.indybay.org/newsitems/2008/04/27/18495406.php
DTSTART:20080430T000000Z
DTEND:20080430T020000Z
END:VEVENT
END:VCALENDAR
