BEGIN:VCALENDAR
VERSION:2.0
X-WR-CALNAME:www.indybay.org
PRODID:-//indybay/ical// v1.0//EN
BEGIN:VEVENT
UID:Indybay-18495375
SEQUENCE:18523717
CREATED:20080427T230000Z
DESCRIPTION:Big Umbrella Studios presents their seventh show, "Big & Small: estory of 
 de proportions of de meek and mighty", showcasing works by Miriam Diaz and 
 Kristine Lee. The show will also feature works in various media by the 
 cooperative gallery's twenty members. \n 
 https://www.indybay.org/newsitems/2008/04/27/18495375.php
SUMMARY:Big & Small
LOCATION:Big Umbrella Studios, 906 1/2 Divisadero St. 
URL:https://www.indybay.org/newsitems/2008/04/27/18495375.php
DTSTART:20080517T020000Z
DTEND:20080517T070000Z
END:VEVENT
END:VCALENDAR
