BEGIN:VCALENDAR
VERSION:2.0
X-WR-CALNAME:www.indybay.org
PRODID:-//indybay/ical// v1.0//EN
BEGIN:VEVENT
UID:Indybay-18495129
SEQUENCE:18523399
CREATED:20080426T071700Z
DESCRIPTION:Harlem Duet\nWritten and directed by Djanet Sears\nMay 15-17, 22-24 at 8:00 
 pm in Roble Studio Theater\n\nThe Department of Drama is proud to welcome 
 Djanet Sears to Stanford, where she will direct her play Harlem Duet, a 
 prelude to Shakespeare's Othello. Winner of Canada's highest literary honor 
 for dramatic writing -  the Governor General's Literary Award - in 1998, 
 Harlem Duet was revived in 2006 at the Stratford Festival, North America's 
 largest theater festival, and was the first black work to be produced in 
 the festival's fifty-four year history, the first to be directed by a black 
 director (Sears), and the first with an all-black cast.\n\n$15 general 
 admission, $10 Stanford faculty and staff, $10 senior citizens, $5 students 
 with ID. All seating is general admission. Tickets are available at the 
 door the night of the performance, or online at http://drama.stanford.edu. 
 Please note new ticketing policy: any tickets unclaimed 10 minutes prior to 
 curtain may be released to a waiting list. For wheelchair seats, please 
 email dramatickets@stanford.edu or call (650) 725-5838.\n	\n\n 
 https://www.indybay.org/newsitems/2008/04/26/18495129.php
SUMMARY:Harlem Duet performance
LOCATION:Roble Studio Theater (Stanford University) 351 Santa Teresa St. Stanford, 
 CA 94305
URL:https://www.indybay.org/newsitems/2008/04/26/18495129.php
DTSTART:20080524T030000Z
DTEND:20080524T030000Z
END:VEVENT
END:VCALENDAR
