BEGIN:VCALENDAR
VERSION:2.0
X-WR-CALNAME:www.indybay.org
PRODID:-//indybay/ical// v1.0//EN
BEGIN:VEVENT
UID:Indybay-18494827
SEQUENCE:18523030
CREATED:20080424T045200Z
DESCRIPTION:URGENT Bay Area Demos filmed for TV- OUR CHANCE to help farm 
 animals!!!\n\nWomen's Entertainment Network is doing a mini documentary on 
 me for their show "The Secret Lives of Women"; they will for sure be 
 filming two demos on May 2nd & May 3rd.  I would love to know who can 
 possibly make it, this is an amazing opportunity to not only showcase the 
 plight of farm animals nationally but to let the public know just how many 
 people truly care about farm animals.  This documentary is for the animals 
 suffering this very second and they need YOU to get out and speak for 
 them.\n\nPlease RSVP to me ASAP so I know how many people will make it out 
 for this important event!\n\nHosted by: PETA\nDate: Friday May 2nd, 
 2008\nTime: Noon to 1pm (ish)\nWhere: KFC San Francisco- 2101 Lombard St at 
 Filmore Street\n\nWe will be handing out leaflets and holding signs to let 
 the public know about the cruelty involved with KFC's chickens.  We could 
 use another female to wear a bikini with me and one other person, though 
 you can simply hold a sign if you wish or come out for support.\n\nHosted 
 by: East Bay Animal Advocates\nDate: Saturday May 3rd, 2008\nTime: Noon to 
 1pm (ish)\nWhere: Lunardi's Danville - 345 Railroad Ave- Danville CA\n\nWe 
 may have an over-sized cage which would be an example of a battery cage for 
 egg laying hens- we need at least two people in the cage, two people to 
 hold the banner, and one to two people handing out leaflets.  I will be 
 handing out leaflets and talking to people, though you can simply hold a 
 sign or just be there for support depending on your comfort level.  If you 
 have never done a demo this is your chance!!\n\nI cant stress how important 
 it is to get as many people out as possible, this is a national show with 
 millions of viewers- its our chance to speak for these animals suffering 
 behind closed doors.  People can no longer hide their eyes or close their 
 ears to the pain and suffering of billions of farm animals.\n\nPlease do 
 everything you can to make it out and let me know at your earliest 
 convenience as to if you can come.\n\n. : . With love & compassion . : 
 .\n\nShani Campbell\nOutreach Director\nEast Bay Animal Advocates\nP.O. Box 
 1406\nMartinez, CA 94553\nshani@eastbayanimaladvocates.org\nwww. 
 EastBayAnimalAdvocates. org\n 
 https://www.indybay.org/newsitems/2008/04/23/18494827.php
SUMMARY:URGENT Bay Area Demos filmed for national TV- OUR CHANCE to help farm animals!!!
LOCATION:Hosted by: East Bay Animal Advocates\nDate: Saturday May 3rd, 2008\nTime: 
 Noon to 1pm (ish)\nWhere: Lunardi's Danville - 345 Railroad Ave- Danville 
 CA
URL:https://www.indybay.org/newsitems/2008/04/23/18494827.php
DTSTART:20080503T190000Z
DTEND:20080503T200000Z
END:VEVENT
END:VCALENDAR
