BEGIN:VCALENDAR
VERSION:2.0
X-WR-CALNAME:www.indybay.org
PRODID:-//indybay/ical// v1.0//EN
BEGIN:VEVENT
UID:Indybay-18493820
SEQUENCE:18521828
CREATED:20080419T005900Z
DESCRIPTION: The public is invited to a presentation at UC Santa Cruz on April 25th, 
 1-3pm, on:\n\n• The current political situation in Oaxaca\n• Indigenous 
 Mexican migration to the U.S. and its impact in the communities of 
 origin\n• The role of women in the movement for social justice in 
 Oaxaca\n• Current challenges of indigenous governing community 
 institutions in Oaxaca\n\nSpeakers:\n\n* Centolia Maldonado 
 Vasquez\nBinational Advisor, Economic Development Director and District 
 Coordinator\n\n* Bernardo Ramirez Bautista\nMixteca Region Coordinator and 
 Legal Advocacy Program Director\n\nFriday, April 
 25\n1:00pm-3:00pm\nReception to follow 3:30pm\nCervantes and Velasquez Rm 
 D\nBay Tree Building (3rd floor above book store)\nUniversity of 
 California, Santa Cruz\n[parking info available at campus entrance 
 kiosk]\n\nFilm Screening: Women Who Organize Make Progress\n\nTranslation 
 into English will be provided\nFor more information or accommodations 
 contact the CLRC at 831-459-3789 clrc@ucsc.edu\n\nSponsors: Chicano/Latino 
 Research Center, El Centro: Chicano Latino Resource Center, Latin American 
 and Latino Studies, Anthropology, Kresge College, Oakes College, Colleges 
 Nine and Ten and Merrill College\n 
 https://www.indybay.org/newsitems/2008/04/18/18493820.php
SUMMARY:Binational Struggles of Mexican Indigenous Migrant Communities: Oaxacan Perspectives
LOCATION:Cervantes and Velasquez Rm D\nBay Tree Building (3rd floor above book 
 store)\nUniversity of California, Santa Cruz
URL:https://www.indybay.org/newsitems/2008/04/18/18493820.php
DTSTART:20080425T200000Z
DTEND:20080425T220000Z
END:VEVENT
END:VCALENDAR
