BEGIN:VCALENDAR
VERSION:2.0
X-WR-CALNAME:www.indybay.org
PRODID:-//indybay/ical// v1.0//EN
BEGIN:VEVENT
UID:Indybay-18493163
SEQUENCE:18521054
CREATED:20080416T151400Z
DESCRIPTION:No work, no school, no shopping Sept. 11th 2008 till however long it takes 
 to bring this administration to justice.\n\nSend a clear message to the 
 next president & every government official in every country, town & hamlet- 
 ENOUGH is ENOUGH!\n 
 https://www.indybay.org/newsitems/2008/04/16/18493163.php
SUMMARY:GENERAL STRIKE!
LOCATION:Hit the streets!
URL:https://www.indybay.org/newsitems/2008/04/16/18493163.php
DTSTART:20080911T070000Z
DTEND:20080911T073000Z
END:VEVENT
END:VCALENDAR
