BEGIN:VCALENDAR
VERSION:2.0
X-WR-CALNAME:www.indybay.org
PRODID:-//indybay/ical// v1.0//EN
BEGIN:VEVENT
UID:Indybay-18492288
SEQUENCE:18520020
CREATED:20080412T053000Z
DESCRIPTION:Free! Acclaimed one man play by Ian Ruskin about the longtime longshoreman 
 organizer and leader of the 1934 San Francisco General Strike ($5 donation 
 suggested)\n https://www.indybay.org/newsitems/2008/04/11/18492288.php
SUMMARY:The Life and Times of Harry Bridges: From Wharf Rats to Lords of the Docks
LOCATION:Berkeley City College Auditorium 2050 Center Street 1/2 block west of  
 Berkeley BART 
URL:https://www.indybay.org/newsitems/2008/04/11/18492288.php
DTSTART:20080413T030000Z
DTEND:20080413T043000Z
END:VEVENT
END:VCALENDAR
