BEGIN:VCALENDAR
VERSION:2.0
X-WR-CALNAME:www.indybay.org
PRODID:-//indybay/ical// v1.0//EN
BEGIN:VEVENT
UID:Indybay-18490457
SEQUENCE:18517736
CREATED:20080403T214300Z
DESCRIPTION:The first San Francisco City Public Hearing on the LBAM (light brown apple 
 moth)\nhttp://nospray.org\nto stop aerial spray of pesticides on SF and Bay 
 Area\n\nCALL TO ACTION: City Hall Public LBAM Hearing\nDate/Time: April 7 
 at 10 AM\nSan Francisco City Hall, Second Floor\nDirection and parking at 
 SF City Hall can be found here - 
 \nhttp://www.sfgov.org/site/cityhall_index.asp?id=5244\n\nCome to the first 
 San Francisco City Public Hearing on the LBAM (light brown apple moth) and 
 California's eradication plan. This is a meeting of the Board's Government 
 Audit and Oversight Committee, which is considering two resolutions 
 opposing the LBAM eradication plan.\nShow Your Support for the Mirkarini 
 Legislation! It contains the strongest language in opposition to the 
 spray.\n\nWHO: All opponents of the LBAM spraying who live, work, or come 
 to San Francisco City and County. Bring signs and banners. For further 
 information contact sfcontact@cassonline.org\n\n\n-- \nGardening is an 
 exercise in optimism. Sometimes, it is a triumph of hope over 
 experience.\n- Marina Schinz\n\n 
 https://www.indybay.org/newsitems/2008/04/03/18490457.php
SUMMARY:1st San Francisco City Public Hearing on the LBAM (light brown apple moth)
LOCATION:San Francisco City Hall, Second Floor\nDirection and parking at SF City 
 Hall can be found here - 
 \nhttp://www.sfgov.org/site/cityhall_index.asp?id=5244
URL:https://www.indybay.org/newsitems/2008/04/03/18490457.php
DTSTART:20080403T170000Z
DTEND:20080403T190000Z
END:VEVENT
END:VCALENDAR
