BEGIN:VCALENDAR
VERSION:2.0
X-WR-CALNAME:www.indybay.org
PRODID:-//indybay/ical// v1.0//EN
BEGIN:VEVENT
UID:Indybay-18489992
SEQUENCE:18517293
CREATED:20080401T230100Z
DESCRIPTION:The second Tuesday of each month, social changemakers and web innovators 
 get together to network, socialize and share ideas at Net Tuesday, a free 
 event produced by NetSquared, http://www.netsquared.org a project of 
 TechSoup, http://www.techsoup.org.\n\nThis month’s presentation will be 
 about The YouTube Nonprofit Program http://www.youtube.com/nonprofits. 
 Maryrose Dunton, the Head of User Experience at YouTube, will 
 present.\n\nRSVP on:\nUpcoming: 
 http://upcoming.yahoo.com/event/463332/?ps=5\nMeetup 
 http://netsquared.meetup.com/1/\nOr Facebook 
 http://www.facebook.com/event.php?eid=26810345374\n\nDuring the 2007 
 Clinton Global Initiative, YouTube announced The YouTube Nonprofit Program 
 as a way to make it even easier for people to find, watch and engage with 
 nonprofit video content on the site. YouTube’s 2007/2008 Clinton Global 
 Initiative commitment enables US-based nonprofit organizations with 
 501©(3) status, that register for the program, to receive a free nonprofit 
 specific YouTube channel where they can upload footage of their work, 
 public service announcements, calls to action and more. The channel also 
 allows them to collect donations with no processing costs using Google 
 Checkout for Nonprofits. YouTube’s global platform enables nonprofits to 
 deliver their message, showcase their impact and needs, and encourage 
 supporters to take action.\n\nSpeaker Bio\n\nMaryrose Dunton is the head of 
 User Experience and a founding member of the YouTube Product team. After 
 joining YouTube in October 2005, Maryrose built the Product and User 
 Experience teams from the ground up focusing on creating and leading 
 user-centric and innovative product solutions across all YouTube platforms. 
 Maryrose has a lifetime passion for technology and social responsibility, 
 and is responsible for bringing a multitude of nonprofits to YouTube and 
 teaching them how to reach a broader audience through video.   Prior to 
 joining YouTube, Maryrose worked for PayPal heading up the Product Planning 
 team. Maryrose received a BA in English and Art History from San Jose State 
 University.\n https://www.indybay.org/newsitems/2008/04/01/18489992.php
SUMMARY:The YouTube Nonprofit Program at Net Tuesday San Francisco
LOCATION:TechSoup/CompuMentor\n525 Brannan St. Ste. 300\nSan Francisco, CA, 94107
URL:https://www.indybay.org/newsitems/2008/04/01/18489992.php
DTSTART:20080409T010000Z
DTEND:20080409T030000Z
END:VEVENT
END:VCALENDAR
