BEGIN:VCALENDAR
VERSION:2.0
X-WR-CALNAME:www.indybay.org
PRODID:-//indybay/ical// v1.0//EN
BEGIN:VEVENT
UID:Indybay-18489641
SEQUENCE:18516712
CREATED:20080331T135700Z
DESCRIPTION:LA City Council votes on pro-medical cannabis resolution April 
 2\n\n--------------------------------------------------------------------------------\nDon 
 Duncan   \nFri, Mar 28, 2008 at 12:07 PM  \nTo: Post to LA ASA   
 \n\n\nHello. Please join medical cannabis patients and advocates at the Los 
 Angeles City Council Meeting on Wednesday, April 2. The Council will vote 
 on a resolution introduced by Council Member Dennis Zine supporting CA 
 Senator Carole Migden’s Senate Joint Resolution 20 (SJR 20), which calls 
 on the President and US Congress to stop raiding medical cannabis 
 facilities. The LA City Council is standing up for patients’ access in 
 the wake of six simultaneous raids at facilities last week. This is an 
 important part of a growing statewide trend to oppose federal intimidation 
 and interference.\n\nPlease forward this invitation to your friends and 
 lists!\n\nWhat:  LA City Council vote to support SJR 20\n\nWhen:  10 AM * 
 Wednesday, April 2, 2008\n\nWhere:  Room 340, 200 N. Spring St., downtown 
 LA\n\nMap & Public Transit Info:  http://www.ASAaction.org\n\n\nVisit 
 http://www.AmericansForsafeAccess.org/sjr20 for more information about 
 Senator Migden’s resolution.\n\nVisit http://www.ASAaction.org for a list 
 of upcoming events.\n\n__________________\nDon Duncan\nCalifornia Campaign 
 Director\nAmericans for Safe Access 
 \nhttp://www.americansforsafeaccess.org/\n \nAmericans for Safe Access 
 (ASA) is the largest national member-based organization of patients, 
 medical professionals, scientists and concerned citizens promoting safe and 
 legal access to cannabis for therapeutic use and research. \n \nAre you an 
 ASA member? http://www.AmericansforSafeAccess.org/Join\n \nLos Angeles 
 Office\n7211 Santa Monica Blvd., Suite 800\nWest Hollywood, CA 90046\nP: 
 323-326-6347  F: 323-882-6263\n\n\n -- \nBrett Stone\nLegal 
 Assistant\nKROGER LAW GROUP\n8888 Olympic Blvd.\nBeverly Hills, CA 
 90211\nOffice- 
 323-655-5700\nbrett@laattorney.com\n\nhttp://www.420attorney.com\nhttp://www.laattorney.com\n\nFor 
 the latest marijuana and medical marijuana news please visit 
 http://health.groups.yahoo.com/group/mmjnews/ or send a blank email to 
 mmjnews-subscribe@yahoogroups.com to have the latest marijuana and medical 
 marijuana news delivered direct to your inbox. \n \n\n 
 https://www.indybay.org/newsitems/2008/03/31/18489641.php
SUMMARY:LA City Council votes on pro-medical cannabis resolution April 2
LOCATION:City Hall, Room 340, 200 N. Spring St., downtown Los Angeles
URL:https://www.indybay.org/newsitems/2008/03/31/18489641.php
DTSTART:20080402T170000Z
DTEND:20080402T190000Z
END:VEVENT
END:VCALENDAR
