BEGIN:VCALENDAR
VERSION:2.0
X-WR-CALNAME:www.indybay.org
PRODID:-//indybay/ical// v1.0//EN
BEGIN:VEVENT
UID:Indybay-18489190
SEQUENCE:18516195
CREATED:20080329T011700Z
DESCRIPTION:Come celebrate the life and legacy of Cesar Chavez.We will be screening the 
 Cesar E.Chavez Foundation film \n"Common Man,Uncommon Vision:The Cesar 
 Chavez Story" and "Immokalee:From Slavery to Freedom," which \ndocuments 
 the current actions of a Florida union to end the inhumane conditions 
 experienced by farmworkers \nwho grow and harvest the food used by the 
 fast-food industry.We will hear from a local organizer or two on \ncurrent 
 food justice issues and information will be on hand about the movement 
 today and current campaigns \nto protect workers and the environment.The 
 evening will also include tasty organic snacks to accompany the \nfilm 
 screenings! \n\n https://www.indybay.org/newsitems/2008/03/28/18489190.php
SUMMARY:Celebrating the Leadership and Legacy of Cesar Chavez
LOCATION:Ecology Center: San Pablo Ave Near Dwight Way
URL:https://www.indybay.org/newsitems/2008/03/28/18489190.php
DTSTART:20080412T020000Z
DTEND:20080412T040000Z
END:VEVENT
END:VCALENDAR
