BEGIN:VCALENDAR
VERSION:2.0
X-WR-CALNAME:www.indybay.org
PRODID:-//indybay/ical// v1.0//EN
BEGIN:VEVENT
UID:Indybay-18487954
SEQUENCE:18514664
CREATED:20080322T195000Z
DESCRIPTION:Al Nakba (the Catastrophe): Palestinians in the 60th year of Dispossession. 
  Ziad Abbas, journalist and co-director of the Ibdaa Cultural and Community 
 Center in Bethlehem, will share oral histories he has done with al Nakba 
 survivors and his work with the youth of Palestine. More info: 
 916-448-7157; sacpeace@dcn.org.\n 
 https://www.indybay.org/newsitems/2008/03/22/18487954.php
SUMMARY:Palestinians in the 60th Year of Dispossession
LOCATION:SEIU-UHW Hall, 1911 F St. Sacramento
URL:https://www.indybay.org/newsitems/2008/03/22/18487954.php
DTSTART:20080410T020000Z
DTEND:20080410T040000Z
END:VEVENT
END:VCALENDAR
