BEGIN:VCALENDAR
VERSION:2.0
X-WR-CALNAME:www.indybay.org
PRODID:-//indybay/ical// v1.0//EN
BEGIN:VEVENT
UID:Indybay-18487819
SEQUENCE:18514516
CREATED:20080322T044200Z
DESCRIPTION:San Francisco, on April 9, 2008, is the only city in North America that 
 will host the 2008 Beijing Olympics torch relay.  \n \nThis is a unique 
 opportunity to join Darfur activist leaders to communicate in person to 
 Chinese government officials that it must use its relationship with Sudan 
 to end the genocide in Darfur. This could be the most important and 
 impactful event for Darfur in the U.S. this year!\n \nThe more of us who 
 line the relay route in a respectful and peaceful manner on Wednesday, 
 April 9 in San Francisco, the more powerful the message will be.\n 
 \nExtinguish the Flames of Genocide in Darfur!\n \nVisit www.darfursf.org 
 and register to participate.  By registering, you can receive updates of 
 plans for the day, including exact times and meeting locations.\n\nWe 
 expect few problems in lining a part of the Relay route with our respectful 
 presence and placards that you can get in April 4th's Friday Chronicle or 
 at the gathering point (to be announced on website).  \n\nFor more 
 information about China and Sudan, please go to 
 http://www.savedarfur.org/pages/china_and_sudan\n 
 https://www.indybay.org/newsitems/2008/03/21/18487819.php
SUMMARY:Extinguish the Flames of Genocide in Darfur!
LOCATION:San Francisco location to be determined\nWatch website for details\nSan 
 Francisco, CA 94103\n415-221-8400\nhttp://www.darfursf.org
URL:https://www.indybay.org/newsitems/2008/03/21/18487819.php
DTSTART:20080409T160000Z
DTEND:20080409T220000Z
END:VEVENT
END:VCALENDAR
