BEGIN:VCALENDAR
VERSION:2.0
X-WR-CALNAME:www.indybay.org
PRODID:-//indybay/ical// v1.0//EN
BEGIN:VEVENT
UID:Indybay-18487688
SEQUENCE:18514348
CREATED:20080321T201200Z
DESCRIPTION:May 31st, 2008   1-5pm \nDolores Park, SF (20th & 
 Dolores)\nwww.reallyreallyfree.org\n\nEverything is free. yes, really 
 really free. no money, no bartering, no advertising.\nBring food, art, 
 games, furniture, friends, not-so-random acts of kindness, bike 
 parts/tools, face paints, plants, books, skills….anything!\n	\nA Really 
 Really Free market is like a giant potluck made up of useable items, 
 skills, ideas, smiles, talents, friendship, discussions and many other 
 things that we can come together and share.  \n\nAs a community we have 
 many more resources than we do as individuals. If we share our resources we 
 won't need to buy as many new ones. This uses fewer of the Earth's 
 resources and fewer of our working hours, leaving us more time to devote to 
 ourselves and our communities. \n\nWould we all work forty hours a week if 
 we didn't feel we had to? What if instead we worked at improving our 
 individual skills and talents and shared them with each other? We would all 
 spend more time doing things we enjoyed. \n\nBring a blanket, bring things 
 to put on the blanket, sit on someone else’s blanket, play in the grass 
 and live, for a few hours, outside of capitalism. \n\nPlease help us keep 
 the Really Really Free Market a 100% FREE and non-commercial event. Once a 
 month, let's come together and forget about trading, bartering and money. 
 Leave the business cards at home and remember the joy of giving for the 
 sake of giving. \n\nHelp us keep Dolores Park clean. If no one takes what 
 you brought, please bring it home with you or HELP US bring it to Community 
 Thrift for donation. \n\nA RRFM is a participant-organized event.  It is 
 comprised of what YOU make of it.   Get involved. If you want to help 
 organize or bring skills or just have questions, please contact us at 
 reallyreallyfreemarket [at] mutualaid [dot] org or just show up. If you 
 live outside San Francisco, start one where you are! This is a growing 
 movement and you're part of it! \n\nBecause there's enough for everyone.  
 \nBecause sharing is more fulfilling than owning.  \nBecause corporations 
 would rather see landfills overflow than anyone get anything for free.  
 \nBecause scarcity is a myth constructed to keep us at the mercy of the 
 economy.  \nBecause a sunny day outside is better than anything money can 
 buy.  \nBecause "free trade" is a contradiction of terms.  \nBecause no one 
 should have to do without food, shelter, entertainment, and community.  
 \nBecause life should be a picnic, but it only will be if we make it 
 happen.  \n\n https://www.indybay.org/newsitems/2008/03/21/18487688.php
SUMMARY:Really Really Free Market
LOCATION:Dolores Park, SF\n(20th & Dolores)
URL:https://www.indybay.org/newsitems/2008/03/21/18487688.php
DTSTART:20080531T190000Z
DTEND:20080531T230000Z
END:VEVENT
END:VCALENDAR
