BEGIN:VCALENDAR
VERSION:2.0
X-WR-CALNAME:www.indybay.org
PRODID:-//indybay/ical// v1.0//EN
BEGIN:VEVENT
UID:Indybay-18486095
SEQUENCE:18512138
CREATED:20080316T204900Z
DESCRIPTION:Soul Fyah Tuesdays with Dj Serg, Kool Kyle, Juan DMC plus Special Guests 
 spinning reggae dancehall and classics. Every Tuesday No Cover, Drink 
 Specials $3 Red Stripes and $4 Rum and Cokes.\n 
 https://www.indybay.org/newsitems/2008/03/16/18486095.php
SUMMARY:Soul Fyah Tuesdays
LOCATION:Lukas Tap Room 2221 Broadway @ West Grand Downtown Oakland
URL:https://www.indybay.org/newsitems/2008/03/16/18486095.php
DTSTART:20080319T040000Z
DTEND:20080319T090000Z
END:VEVENT
END:VCALENDAR
