BEGIN:VCALENDAR
VERSION:2.0
X-WR-CALNAME:www.indybay.org
PRODID:-//indybay/ical// v1.0//EN
BEGIN:VEVENT
UID:Indybay-18485223
SEQUENCE:18511080
CREATED:20080312T182500Z
DESCRIPTION:Nonviolent Communication (NVC) is a tool developed by Marshall Rosenberg 
 that is practiced around the world.  In this interactive introduction to 
 the NVC process and principles, we will\n\nUnderstand the basis of joyfully 
 giving to and receiving from one another! \nPractice transforming walls of 
 judgment to heartfelt connection! \nLearn to express and listen to the 
 spirit in each of us!\n\nKiran Patel will lead this inspiring and practical 
 workshop.  Kiran has extensive experience with NVC, including completing a 
 year-long NVC leadership program.  She is certified as a conflict mediator 
 and has an M.A. in social psychology.  She is a yoga teacher with advanced 
 certification in the Sivananda tradition.  Her workshops have reached 
 thousands of individuals and numerous organizations in the U.S. and in 
 India.  Her writing on nonviolence and yoga has been published in "India 
 West".\n\n https://www.indybay.org/newsitems/2008/03/12/18485223.php
SUMMARY:Nonviolent Communication (NVC) Workshop
LOCATION:Studio space at 1452 Cornell Ave, Berkeley, CA 94702
URL:https://www.indybay.org/newsitems/2008/03/12/18485223.php
DTSTART:20080315T220000Z
DTEND:20080315T233000Z
END:VEVENT
END:VCALENDAR
