BEGIN:VCALENDAR
VERSION:2.0
X-WR-CALNAME:www.indybay.org
PRODID:-//indybay/ical// v1.0//EN
BEGIN:VEVENT
UID:Indybay-18484882
SEQUENCE:18510669
CREATED:20080310T231900Z
DESCRIPTION:What does it mean to be a radical parent in these times?\n\n Join these 
 anarchist parents and authors of Joybringer; The Future Generation: A 
 Zine-Book For Subculture Parents, Kids, Friends & Others; My Mother Wears 
 Combat Boots; and rad dad for a reading and a discussion. Audience 
 participation will be encouraged!  \n\n10% of all event book sales will 
 benefit Buen Dia Family School.  For more information about Buen Dia, visit 
 http://www.bdfs.org/\n\nFor a complete listing of events visit us online at 
 moderntimesbookstore.com\n\nMODERN TIMES IS WHEELCHAIR ACCESSIBLE.\n\nALL 
 EVENTS ARE FREE, OPEN TO THE PUBLIC, AND AT MODERN TIMES UNLESS OTHERWISE 
 INDICATED.\n https://www.indybay.org/newsitems/2008/03/10/18484882.php
SUMMARY:Radical Parents Who Write: a Reading and Conversation
LOCATION:Modern Times Bookstore
URL:https://www.indybay.org/newsitems/2008/03/10/18484882.php
DTSTART:20080321T010000Z
DTEND:20080321T030000Z
END:VEVENT
END:VCALENDAR
