BEGIN:VCALENDAR
VERSION:2.0
X-WR-CALNAME:www.indybay.org
PRODID:-//indybay/ical// v1.0//EN
BEGIN:VEVENT
UID:Indybay-18483840
SEQUENCE:18509374
CREATED:20080306T001200Z
DESCRIPTION:The East Bay Permaculture Guild's annual Spring bike tour is here!\n\nWe'll 
 be gathering Sunday April 6th, at 11:30am, at the North Berkeley BART 
 Station, to look at some gardens we haven't featured before. There'll be 
 youth and community gardens, fruit trees, vines, and veggies, buildings of 
 strawbale and salvaged materials, graywater and water catchment, not to 
 mention much mulch, chickens, and a bunny rabbit.\n\nA $5 donation is 
 requested, but no one will be turned away for lack of funds. We'll have a 
 snack break around the middle of the tour, with light snacks provided. 
 Please bring water, weather appropriate clothes, your favorite munchies and 
 your thirst for knowledge.\n\nThe finalized schedule and further details 
 will be available the week before the tour.\n\nFor questions or to RSVP 
 please contact Josh Shupack at yNaught@gmail.com\n\nSee you there!\n\n 
 https://www.indybay.org/newsitems/2008/03/05/18483840.php
SUMMARY:Permaculture Bike Tour
LOCATION:North Berkeley BART Station\n1750 Sacramento Street in Berkeley
URL:https://www.indybay.org/newsitems/2008/03/05/18483840.php
DTSTART:20080406T183000Z
DTEND:20080407T003000Z
END:VEVENT
END:VCALENDAR
