BEGIN:VCALENDAR
VERSION:2.0
X-WR-CALNAME:www.indybay.org
PRODID:-//indybay/ical// v1.0//EN
BEGIN:VEVENT
UID:Indybay-18482119
SEQUENCE:18507314
CREATED:20080227T180900Z
DESCRIPTION:Sholay\nRamesh Sippy, 1975, 162 min.\n\nSholay is Bollywood's landmark 
 contribution to the Western genre. It remains the highest-grossing film in 
 the history of Hindi cinema and was declared "film of the millennium" by 
 BBC India in 1999. The film tells the story of a former cop who hires two 
 ex-cons to eradicate a gang of bandits. Sholay stands out for its 
 astonishing landscape cinematography and absence of the family themes 
 characteristic of many Hindi films; it might be most recognized, however, 
 for the degree of pure evil embodied by the bandit chief Gabbar Singh 
 (Amjad Khan).\n\n$5 general, students, and seniors. Double features: films 
 offered on the same date are included in one ticket.\n 
 https://www.indybay.org/newsitems/2008/02/27/18482119.php
SUMMARY:Non-Western Westerns Film Series
LOCATION:SFMOMA | Phyllis Wattis Theater\n151 Third Street (between Mission and 
 Howard streets)
URL:https://www.indybay.org/newsitems/2008/02/27/18482119.php
DTSTART:20080322T220000Z
DTEND:20080322T233000Z
END:VEVENT
END:VCALENDAR
