BEGIN:VCALENDAR
VERSION:2.0
X-WR-CALNAME:www.indybay.org
PRODID:-//indybay/ical// v1.0//EN
BEGIN:VEVENT
UID:Indybay-18480154
SEQUENCE:18504928
CREATED:20080219T204600Z
DESCRIPTION:WORLD AGAINST WAR I \nGLOBAL ANTIWAR PROTEST \n(END THE WAR 
 NOW!)\n-------------------------------------------\n\nMARCH 15, 2008 
 -[LONDON] more info \nMARCH 15, 2008 -LOS ANGELES, USA more info \nMARCH 
 15, 2008 -NEW MEXICO, USA more info \nMARCH 15, 2008 -MINNESOTA, USA more 
 info \nMARCH 15, 2008 -CHARLESTON, USA more info \nMARCH 15, 2008 -CHEVRON 
 REFINERY, USA more info \nMARCH 15, 2008 -VANCOUVER, CANADA more info 
 \nMARCH 15, 2008 -BELGIUM more info \nMARCH 15, 2008 -DUBLIN, IRELAND more 
 info \nMARCH 15, 2008 -MADRID, SPAIN more info \nMARCH 15, 2008 -SEVILLE, 
 SPAIN more info \nMARCH 15, 2008 -BARCELONA, SPAIN more info \nMARCH 15, 
 2008 -PRAGUE, CZECH REPUBLIC more info \nMARCH 15, 2008 -ALBORG, DENMARK 
 more info \nMARCH 15, 2008 -ODENSE, DENMARK more info \nMARCH 15, 2008 
 -ARTHUS, DENMARK more info \nMARCH 15, 2008 -BERGEN, NORWAY more info 
 \nMARCH 15, 2008 -OSLO, NORWAY more info \nMARCH 15, 2008 -BRUSSELS, 
 BELGIUM more info \nMARCH 15, 2008 -PUERTO RICO more info \nMARCH 15, 2008 
 -ROME \nMARCH 15, 2008 -NEW ZEALAND\nMARCH 15, 2008 -BERLIN \nMARCH 15, 
 2008 -TURKEY \nMARCH 15, 2008 -GLASGOW, SCOTLAND \n\nMARCH 16, 2008 -SEOUL, 
 KOREA more info \nMARCH 16, 2008 -SYDNEY, AUSTRALIA 
 \n\n\n\n\n\n\n\n\n\n\n\n\nPlease contact worldagainstwar@hushmail.com to 
 have your protest included\n\n         \n\n \nMARCH 19, 2008 -[WASHINGTON 
 D.C.] more info \nMARCH 19, 2008 -SEATTLE Rally 5pm at Westlake\nMARCH 19, 
 2008 -CHICAGO more info link\nMARCH 19, 2008 -SAN FRANCISCO more info 
 \nMARCH 19, 2008 -MIAMI more info \nMARCH 19, 2008 -GAINESVILLE more info 
 \nMARCH 19, 2008 -FORT LAUDERDALE more info \nMARCH 19, 2008 -TAMPA BAY 
 more info \nMARCH 19, 2008 -ORLANDO more info \nMARCH 19, 2008 -SOUTH 
 DAKOTA more info \nMARCH 19, 2008 -NEW YORK more info \nMARCH 19, 2008 
 -OREGON more info \nMARCH 19, 2008 -CALIFORNIA more info \nMARCH 19, 2008 
 -TEXAS more info \nMARCH 19, 2008 -TUCSON more info \nMARCH 19, 2008 -TULSA 
 more info \nMARCH 19, 2008 -MISSOURI more info \nMARCH 19, 2008 -OMAHA more 
 info \nMARCH 19, 2008 -MINNEAPOLIS more info \nMARCH 19, 2008 -MICHIGAN 
 more info \nMARCH 19, 2008 -OHIO more info \nMARCH 19, 2008 -PENNSYLVANIA 
 more info \nMARCH 19, 2008 -NEW JERSEY more info \nMARCH 19, 2008 -NEW 
 HAMPSHIRE more info \nMARCH 19, 2008 -NORTH CAROLINA more info \nMARCH 19, 
 2008 -MASSACHUSETTS more info \nMARCH 19, 2008 -COLORADO more info \nMARCH 
 19, 2008 -DELAWARE more info \n\nMARCH 20, 2008 -[STUDENTS] more info 
 \n\nMARCH 22, 2008 -TOKYO, JAPAN more info \nMARCH 22, 2008 -OSAKA, JAPAN 
 \nMARCH 22, 2008 -SAPORA, JAPAN \nMARCH 22, 2008 -ATHENS, GREECE more info 
 \nMARCH 22, 2008 -BELGIUM more info \n \n \n 
 https://www.indybay.org/newsitems/2008/02/19/18480154.php
SUMMARY:WORLD AGAINST WAR
LOCATION:Worldwide
URL:https://www.indybay.org/newsitems/2008/02/19/18480154.php
DTSTART:20080319T190000Z
DTEND:20080319T190000Z
END:VEVENT
END:VCALENDAR
