BEGIN:VCALENDAR
VERSION:2.0
X-WR-CALNAME:www.indybay.org
PRODID:-//indybay/ical// v1.0//EN
BEGIN:VEVENT
UID:Indybay-18479960
SEQUENCE:18504681
CREATED:20080218T214000Z
DESCRIPTION:Dr. Ayesha Siddiqa is a well-known Pakistani writer and  researcher. She is 
 the author of "Military Inc.", a  groundbreaking work on the far-reaching 
 economic interests  of the Pakistan army.Her other books include - 
 "Pakistan's  Arms Procurement and Military Buildup, 1979-99: In Search  of 
 a Policy"(Palgrave Press, 2001). She has written  extensively on weapons 
 proliferation, problems of governance  and India-Pakistan relations. She 
 has previously been the  Director of Naval Research with the Pakistan Navy. 
 She has  also held fellowships at the Woodrow Wilson International  Center 
 for Scholars, Washington DC, and the Sustainable  Development Policy 
 Institute, Islamabad, Pakistan.\n 	\n Dr. Ahmad Faruqui is a defense 
 analyst and economist. He  is a frequent contributor to the Lahore-based 
 Daily Times  newspaper.\n \n Ijaz Syed is a long-time activist and a 
 founding member  of Friends of South Asia.\n 
 ==========================================================\n The talk at 
 Stanford is hosted by Center for South Asia,  Stanford University and 
 co-sponsored by Pakistanis at  Stanford.\n\n 
 https://www.indybay.org/newsitems/2008/02/18/18479960.php
SUMMARY:America 's Pakistan vs Pakistan 's Pakistan: Searching for Options
LOCATION:Stanford University. Bldg 380, Room 380-X\n450 Serra Mall\nStanford, CA 
 94305\n
URL:https://www.indybay.org/newsitems/2008/02/18/18479960.php
DTSTART:20080222T030000Z
DTEND:20080222T050000Z
END:VEVENT
END:VCALENDAR
