BEGIN:VCALENDAR
VERSION:2.0
X-WR-CALNAME:www.indybay.org
PRODID:-//indybay/ical// v1.0//EN
BEGIN:VEVENT
UID:Indybay-18478888
SEQUENCE:18503405
CREATED:20080213T173800Z
DESCRIPTION:Town Hall Meeting to discuss the adverse impacts on the community in and 
 around Parcel A - the project developer Lennar BVHP LLC.\n\nOther pertinent 
 next steps linked to our Spiritual Movement.\n\nThe impacts of the 11 818 
 signatures we collected in 10 days.\nThat impact on City Hall and next 
 steps.\n\nMUNI bus 23 brings you to the door. Your presence is 
 appreciated.\n https://www.indybay.org/newsitems/2008/02/13/18478888.php
SUMMARY:Town Hall Meeting - Bayview Hunters Point
LOCATION:Grace Tabernacle Community Church, 1121 Oakdale Avenue. MUNI bus 23 brings 
 you to the door. Corner of Ingalls Avenue and Oakdale Avenue. Free Parking.
URL:https://www.indybay.org/newsitems/2008/02/13/18478888.php
DTSTART:20080215T020000Z
DTEND:20080215T040000Z
END:VEVENT
END:VCALENDAR
