BEGIN:VCALENDAR
VERSION:2.0
X-WR-CALNAME:www.indybay.org
PRODID:-//indybay/ical// v1.0//EN
BEGIN:VEVENT
UID:Indybay-18478817
SEQUENCE:18503293
CREATED:20080213T112300Z
DESCRIPTION:This is day two of 8 days of anarchy.\n\nHow does one subvert the current 
 order? WWKKD? During this evening we will join together to approach 
 questions of subversion and of consequences in a social environment with an 
 eye on how to fracture the passivity of spectating. We will be in a room 
 together watching the German movie "What to do in case of fire" and at the 
 end of the night we will leave together. To what end?\n 
 https://www.indybay.org/newsitems/2008/02/13/18478817.php
SUMMARY:A movie and radical discussion
LOCATION:Where: The Long Haul - 3124 Shattuck Ave. Berkeley Ca.
URL:https://www.indybay.org/newsitems/2008/02/13/18478817.php
DTSTART:20080320T030000Z
DTEND:20080320T050000Z
END:VEVENT
END:VCALENDAR
