BEGIN:VCALENDAR
VERSION:2.0
X-WR-CALNAME:www.indybay.org
PRODID:-//indybay/ical// v1.0//EN
BEGIN:VEVENT
UID:Indybay-18478402
SEQUENCE:18502728
CREATED:20080211T210000Z
DESCRIPTION:* Wednesday, February 13, Oakland: Sneak Preview of a New Medical 
 \nMarijuana Movie \n\n*What: Sneak Preview of an unreleased docu-commedy on 
 Cannabis. \nWhere: Oaksterdam University \n410 15th St. Oakland \nWhen: 
 Door 7pm, Movie 7:30 (90 minutes) \n\nFeaturing well-known comedians and 
 includes footage of Don Duncan and \nprotests of the DEA raids in L.A. 
 \n\nFor more information please call: 510.251.1544* \n 
 https://www.indybay.org/newsitems/2008/02/11/18478402.php
SUMMARY:Oakland: Sneak Preview of a New Medical Marijuana Movie
LOCATION:Oaksterdam University \n410 15th St. Oakland 
URL:https://www.indybay.org/newsitems/2008/02/11/18478402.php
DTSTART:20080214T030000Z
DTEND:20080214T050000Z
END:VEVENT
END:VCALENDAR
