BEGIN:VCALENDAR
VERSION:2.0
X-WR-CALNAME:www.indybay.org
PRODID:-//indybay/ical// v1.0//EN
BEGIN:VEVENT
UID:Indybay-18478273
SEQUENCE:18502567
CREATED:20080211T060600Z
DESCRIPTION:Paul Hawken has dedicated his life to sustainability and changing the 
 relationship between business and the environment. His practice has 
 included running ecological businesses, teaching about the impact of 
 commerce on living systems, and consulting with governments and 
 corporations. He is the author of many articles and books, including his 
 latest book, Blessed Unrest: How the Largest Movement in the World Came 
 Into Being and Why No One Saw it Coming. \n\nPraise for Blessed Unrest: 
 \n“A manifesto of hope for the 21st century.”\n¬ Terry Tempest 
 Williams, author of the Open Space of Democracy \n\nDr. Kevin Danaher is a 
 co-founder of Global Exchange and founder of the \nGreen Festivals. Kevin, 
 the editor and author of numerous books, most recently published Building 
 the Green Economy: Success Stories from the Grassroots which is listed 
 among the top five of Ralph Nader’s “top books that make a 
 difference.”\n\nTickets: $10 advance, $13 door. Students with ID: $5 (at 
 door only). \nAvailable at independent bookstores (East Bay: Analog Books, 
 Cody’s, Black Oak, DIESEL, A Bookstore, Pegasus, Pendragon, Global 
 Exchange store, Walden Pond, Moe’s Books; San Francisco: Global Exchange 
 store, Modern Times) \nTelephone ticket order: 415.255.7296 X253 \nAnd at 
 https://www.brownpapertickets.com/producer/7088\nBenefits: Global Exchange 
 \nCo-sponsored by: KPFA\n\n 
 https://www.indybay.org/newsitems/2008/02/10/18478273.php
SUMMARY:The Green Movement: Hope for the Future of the Earth
LOCATION:First Congregational Church at Berkeley \n2345 Channing Way (at Dana), 
 Berkeley \n
URL:https://www.indybay.org/newsitems/2008/02/10/18478273.php
DTSTART:20080229T033000Z
DTEND:20080229T053000Z
END:VEVENT
END:VCALENDAR
